BEGIN:VCALENDAR
VERSION:2.0
PRODID:-//Wundervue - ECPv6.15.17.1//NONSGML v1.0//EN
CALSCALE:GREGORIAN
METHOD:PUBLISH
X-ORIGINAL-URL:https://wundervue.com
X-WR-CALDESC:Events for Wundervue
REFRESH-INTERVAL;VALUE=DURATION:PT1H
X-Robots-Tag:noindex
X-PUBLISHED-TTL:PT1H
BEGIN:VTIMEZONE
TZID:America/Denver
BEGIN:DAYLIGHT
TZOFFSETFROM:-0700
TZOFFSETTO:-0600
TZNAME:MDT
DTSTART:20240310T090000
END:DAYLIGHT
BEGIN:STANDARD
TZOFFSETFROM:-0600
TZOFFSETTO:-0700
TZNAME:MST
DTSTART:20241103T080000
END:STANDARD
BEGIN:DAYLIGHT
TZOFFSETFROM:-0700
TZOFFSETTO:-0600
TZNAME:MDT
DTSTART:20250309T090000
END:DAYLIGHT
BEGIN:STANDARD
TZOFFSETFROM:-0600
TZOFFSETTO:-0700
TZNAME:MST
DTSTART:20251102T080000
END:STANDARD
BEGIN:DAYLIGHT
TZOFFSETFROM:-0700
TZOFFSETTO:-0600
TZNAME:MDT
DTSTART:20260308T090000
END:DAYLIGHT
BEGIN:STANDARD
TZOFFSETFROM:-0600
TZOFFSETTO:-0700
TZNAME:MST
DTSTART:20261101T080000
END:STANDARD
END:VTIMEZONE
BEGIN:VEVENT
DTSTART;TZID=America/Denver:20250803T090000
DTEND;TZID=America/Denver:20250803T130000
DTSTAMP:20260419T154727
CREATED:20250623T182325Z
LAST-MODIFIED:20250623T183059Z
UID:10000003-1754211600-1754226000@wundervue.com
SUMMARY:Lafayette Colorado Farmers Market
DESCRIPTION:
URL:https://wundervue.com/event/lafayette-colorado-farmers-market/
LOCATION:Lafayette Colorado Farmers Market\, 105 S Public Rd\, Lafayette\, CO\, United States
ATTACH;FMTTYPE=image/webp:https://wundervue.com/wp-content/uploads/2024/07/Boulder-Farmers-Market.webp
END:VEVENT
END:VCALENDAR